BEGIN:VCALENDAR
VERSION:2.0
PRODID:-//eventon.com NONSGML v1.0//EN
CALSCALE:GREGORIAN
METHOD:PUBLISH
BEGIN:VEVENT
UID:69e610d71fdfc
DTSTAMP:20260420T114111Z
DTSTART:20210215T120000Z
DTEND:20210215T133000Z
LOCATION:
SUMMARY:Entrenamiento Funcional
DESCRIPTION:Entrenamiento Funcional\nhttps://lorenapaeztraining.com/events/
 entrenamiento-funcional/
URL:https://lorenapaeztraining.com/events/entrenamiento-funcional/
END:VEVENT
END:VCALENDAR