BEGIN:VCALENDAR
VERSION:2.0
PRODID:-//eventon.com NONSGML v1.0//EN
CALSCALE:GREGORIAN
METHOD:PUBLISH
BEGIN:VEVENT
UID:69e9f84c2c409
DTSTAMP:20260423T104532Z
DTSTART:20210426T133000Z
DTEND:20210426T143000Z
LOCATION:
SUMMARY:Pilates
DESCRIPTION:Pilates\nhttps://lorenapaeztraining.com/events/pilates/var/ri-1
 0.l-L1
URL:https://lorenapaeztraining.com/events/pilates/var/ri-10.l-L1
END:VEVENT
END:VCALENDAR