BEGIN:VCALENDAR
VERSION:2.0
PRODID:-//eventon.com NONSGML v1.0//EN
CALSCALE:GREGORIAN
METHOD:PUBLISH
BEGIN:VEVENT
UID:69ea0f20828a0
DTSTAMP:20260423T122256Z
DTSTART:20210503T133000Z
DTEND:20210503T143000Z
LOCATION:
SUMMARY:Pilates
DESCRIPTION:Pilates\nhttps://lorenapaeztraining.com/events/pilates/var/ri-1
 1.l-L1
URL:https://lorenapaeztraining.com/events/pilates/var/ri-11.l-L1
END:VEVENT
END:VCALENDAR