BEGIN:VCALENDAR
VERSION:2.0
PRODID:-//eventon.com NONSGML v1.0//EN
CALSCALE:GREGORIAN
METHOD:PUBLISH
BEGIN:VEVENT
UID:69ea69da59507
DTSTAMP:20260423T185002Z
DTSTART:20210531T133000Z
DTEND:20210531T143000Z
LOCATION:
SUMMARY:Pilates
DESCRIPTION:Pilates\nhttps://lorenapaeztraining.com/events/pilates/var/ri-1
 5.l-L1
URL:https://lorenapaeztraining.com/events/pilates/var/ri-15.l-L1
END:VEVENT
END:VCALENDAR