BEGIN:VCALENDAR
VERSION:2.0
PRODID:-//eventon.com NONSGML v1.0//EN
CALSCALE:GREGORIAN
METHOD:PUBLISH
BEGIN:VEVENT
UID:69ea7e22430c7
DTSTAMP:20260423T201634Z
DTSTART:20210607T133000Z
DTEND:20210607T143000Z
LOCATION:
SUMMARY:Pilates
DESCRIPTION:Pilates\nhttps://lorenapaeztraining.com/events/pilates/var/ri-1
 6.l-L1
URL:https://lorenapaeztraining.com/events/pilates/var/ri-16.l-L1
END:VEVENT
END:VCALENDAR