BEGIN:VCALENDAR
VERSION:2.0
PRODID:-//eventon.com NONSGML v1.0//EN
CALSCALE:GREGORIAN
METHOD:PUBLISH
BEGIN:VEVENT
UID:69ea959a63591
DTSTAMP:20260423T215642Z
DTSTART:20210614T133000Z
DTEND:20210614T143000Z
LOCATION:
SUMMARY:Pilates
DESCRIPTION:Pilates\nhttps://lorenapaeztraining.com/events/pilates/var/ri-1
 7.l-L1
URL:https://lorenapaeztraining.com/events/pilates/var/ri-17.l-L1
END:VEVENT
END:VCALENDAR