BEGIN:VCALENDAR
VERSION:2.0
PRODID:-//eventon.com NONSGML v1.0//EN
CALSCALE:GREGORIAN
METHOD:PUBLISH
BEGIN:VEVENT
UID:69eaaece08305
DTSTAMP:20260423T234414Z
DTSTART:20210621T133000Z
DTEND:20210621T143000Z
LOCATION:
SUMMARY:Pilates
DESCRIPTION:Pilates\nhttps://lorenapaeztraining.com/events/pilates/var/ri-1
 8.l-L1
URL:https://lorenapaeztraining.com/events/pilates/var/ri-18.l-L1
END:VEVENT
END:VCALENDAR