BEGIN:VCALENDAR
VERSION:2.0
PRODID:-//eventon.com NONSGML v1.0//EN
CALSCALE:GREGORIAN
METHOD:PUBLISH
BEGIN:VEVENT
UID:69eac9c4cd533
DTSTAMP:20260424T013916Z
DTSTART:20210628T133000Z
DTEND:20210628T143000Z
LOCATION:
SUMMARY:Pilates
DESCRIPTION:Pilates\nhttps://lorenapaeztraining.com/events/pilates/var/ri-1
 9.l-L1
URL:https://lorenapaeztraining.com/events/pilates/var/ri-19.l-L1
END:VEVENT
END:VCALENDAR