BEGIN:VCALENDAR
VERSION:2.0
PRODID:-//eventon.com NONSGML v1.0//EN
CALSCALE:GREGORIAN
METHOD:PUBLISH
BEGIN:VEVENT
UID:69eaf7f473630
DTSTAMP:20260424T045620Z
DTSTART:20210712T133000Z
DTEND:20210712T143000Z
LOCATION:
SUMMARY:Pilates
DESCRIPTION:Pilates\nhttps://lorenapaeztraining.com/events/pilates/var/ri-2
 1.l-L1
URL:https://lorenapaeztraining.com/events/pilates/var/ri-21.l-L1
END:VEVENT
END:VCALENDAR