BEGIN:VCALENDAR
VERSION:2.0
PRODID:-//eventon.com NONSGML v1.0//EN
CALSCALE:GREGORIAN
METHOD:PUBLISH
BEGIN:VEVENT
UID:69eb0f30afe2a
DTSTAMP:20260424T063528Z
DTSTART:20210719T133000Z
DTEND:20210719T143000Z
LOCATION:
SUMMARY:Pilates
DESCRIPTION:Pilates\nhttps://lorenapaeztraining.com/events/pilates/var/ri-2
 2.l-L1
URL:https://lorenapaeztraining.com/events/pilates/var/ri-22.l-L1
END:VEVENT
END:VCALENDAR