BEGIN:VCALENDAR
VERSION:2.0
PRODID:-//eventon.com NONSGML v1.0//EN
CALSCALE:GREGORIAN
METHOD:PUBLISH
BEGIN:VEVENT
UID:69e9e2ff170de
DTSTAMP:20260423T091439Z
DTSTART:20210322T133000Z
DTEND:20210322T143000Z
LOCATION:
SUMMARY:Pilates
DESCRIPTION:Pilates\nhttps://lorenapaeztraining.com/events/pilates/var/ri-5
 .l-L1
URL:https://lorenapaeztraining.com/events/pilates/var/ri-5.l-L1
END:VEVENT
END:VCALENDAR