BEGIN:VCALENDAR
VERSION:2.0
PRODID:-//eventon.com NONSGML v1.0//EN
CALSCALE:GREGORIAN
METHOD:PUBLISH
BEGIN:VEVENT
UID:69e76391a9b1d
DTSTAMP:20260421T114625Z
DTSTART:20210405T133000Z
DTEND:20210405T143000Z
LOCATION:
SUMMARY:Pilates
DESCRIPTION:Pilates\nhttps://lorenapaeztraining.com/events/pilates/var/ri-7
 .l-L1
URL:https://lorenapaeztraining.com/events/pilates/var/ri-7.l-L1
END:VEVENT
END:VCALENDAR