BEGIN:VCALENDAR
VERSION:2.0
PRODID:-//eventon.com NONSGML v1.0//EN
CALSCALE:GREGORIAN
METHOD:PUBLISH
BEGIN:VEVENT
UID:69e77b102e894
DTSTAMP:20260421T132640Z
DTSTART:20210412T133000Z
DTEND:20210412T143000Z
LOCATION:
SUMMARY:Pilates
DESCRIPTION:Pilates\nhttps://lorenapaeztraining.com/events/pilates/var/ri-8
 .l-L1
URL:https://lorenapaeztraining.com/events/pilates/var/ri-8.l-L1
END:VEVENT
END:VCALENDAR