BEGIN:VCALENDAR
VERSION:2.0
PRODID:-//eventon.com NONSGML v1.0//EN
CALSCALE:GREGORIAN
METHOD:PUBLISH
BEGIN:VEVENT
UID:69e796f5d0ba7
DTSTAMP:20260421T152541Z
DTSTART:20210419T133000Z
DTEND:20210419T143000Z
LOCATION:
SUMMARY:Pilates
DESCRIPTION:Pilates\nhttps://lorenapaeztraining.com/events/pilates/var/ri-9
 .l-L1
URL:https://lorenapaeztraining.com/events/pilates/var/ri-9.l-L1
END:VEVENT
END:VCALENDAR