BEGIN:VCALENDAR
VERSION:2.0
PRODID:-//eventon.com NONSGML v1.0//EN
CALSCALE:GREGORIAN
METHOD:PUBLISH
BEGIN:VEVENT
UID:69e8111b6c519
DTSTAMP:20260422T000651Z
DTSTART:20210427T000000Z
DTEND:20210427T013000Z
LOCATION:
SUMMARY:Circuitos Kroop Cardio
DESCRIPTION:Circuitos Kroop Cardio\nhttps://lorenapaeztraining.com/events/c
 ircuitos-kroop-cardio/var/ri-10.l-L1
URL:https://lorenapaeztraining.com/events/circuitos-kroop-cardio/var/ri-10.l-L1
END:VEVENT
END:VCALENDAR