BEGIN:VCALENDAR
VERSION:2.0
PRODID:-//eventon.com NONSGML v1.0//EN
CALSCALE:GREGORIAN
METHOD:PUBLISH
BEGIN:VEVENT
UID:69e87d069446f
DTSTAMP:20260422T074718Z
DTSTART:20210525T000000Z
DTEND:20210525T013000Z
LOCATION:
SUMMARY:Circuitos Kroop Cardio
DESCRIPTION:Circuitos Kroop Cardio\nhttps://lorenapaeztraining.com/events/c
 ircuitos-kroop-cardio/var/ri-14.l-L1
URL:https://lorenapaeztraining.com/events/circuitos-kroop-cardio/var/ri-14.l-L1
END:VEVENT
END:VCALENDAR