BEGIN:VCALENDAR
VERSION:2.0
PRODID:-//eventon.com NONSGML v1.0//EN
CALSCALE:GREGORIAN
METHOD:PUBLISH
BEGIN:VEVENT
UID:69e778e13f934
DTSTAMP:20260421T131721Z
DTSTART:20210316T000000Z
DTEND:20210316T013000Z
LOCATION:
SUMMARY:Circuitos Kroop Cardio
DESCRIPTION:Circuitos Kroop Cardio\nhttps://lorenapaeztraining.com/events/c
 ircuitos-kroop-cardio/var/ri-4.l-L1
URL:https://lorenapaeztraining.com/events/circuitos-kroop-cardio/var/ri-4.l-L1
END:VEVENT
END:VCALENDAR