BEGIN:VCALENDAR
VERSION:2.0
PRODID:-//eventon.com NONSGML v1.0//EN
CALSCALE:GREGORIAN
METHOD:PUBLISH
BEGIN:VEVENT
UID:69e7c8908ac18
DTSTAMP:20260421T185720Z
DTSTART:20210406T000000Z
DTEND:20210406T013000Z
LOCATION:
SUMMARY:Circuitos Kroop Cardio
DESCRIPTION:Circuitos Kroop Cardio\nhttps://lorenapaeztraining.com/events/c
 ircuitos-kroop-cardio/var/ri-7.l-L1
URL:https://lorenapaeztraining.com/events/circuitos-kroop-cardio/var/ri-7.l-L1
END:VEVENT
END:VCALENDAR