BEGIN:VCALENDAR
VERSION:2.0
PRODID:-//eventon.com NONSGML v1.0//EN
CALSCALE:GREGORIAN
METHOD:PUBLISH
BEGIN:VEVENT
UID:69e7f77ca8768
DTSTAMP:20260421T221732Z
DTSTART:20210420T000000Z
DTEND:20210420T013000Z
LOCATION:
SUMMARY:Circuitos Kroop Cardio
DESCRIPTION:Circuitos Kroop Cardio\nhttps://lorenapaeztraining.com/events/c
 ircuitos-kroop-cardio/var/ri-9.l-L1
URL:https://lorenapaeztraining.com/events/circuitos-kroop-cardio/var/ri-9.l-L1
END:VEVENT
END:VCALENDAR