BEGIN:VCALENDAR
VERSION:2.0
PRODID:-//eventon.com NONSGML v1.0//EN
CALSCALE:GREGORIAN
METHOD:PUBLISH
BEGIN:VEVENT
UID:69e797b2ec9a0
DTSTAMP:20260421T152850Z
DTSTART:20210323T120000Z
DTEND:20210323T131500Z
LOCATION:
SUMMARY:Cardio
DESCRIPTION:Cardio\nhttps://lorenapaeztraining.com/events/cardio/var/ri-10.
 l-L1
URL:https://lorenapaeztraining.com/events/cardio/var/ri-10.l-L1
END:VEVENT
END:VCALENDAR