BEGIN:VCALENDAR
VERSION:2.0
PRODID:-//eventon.com NONSGML v1.0//EN
CALSCALE:GREGORIAN
METHOD:PUBLISH
BEGIN:VEVENT
UID:69e7adda673dd
DTSTAMP:20260421T170322Z
DTSTART:20210329T120000Z
DTEND:20210329T131500Z
LOCATION:
SUMMARY:Cardio
DESCRIPTION:Cardio\nhttps://lorenapaeztraining.com/events/cardio/var/ri-11.
 l-L1
URL:https://lorenapaeztraining.com/events/cardio/var/ri-11.l-L1
END:VEVENT
END:VCALENDAR