BEGIN:VCALENDAR
VERSION:2.0
PRODID:-//eventon.com NONSGML v1.0//EN
CALSCALE:GREGORIAN
METHOD:PUBLISH
BEGIN:VEVENT
UID:69e7c95619143
DTSTAMP:20260421T190038Z
DTSTART:20210330T120000Z
DTEND:20210330T131500Z
LOCATION:
SUMMARY:Cardio
DESCRIPTION:Cardio\nhttps://lorenapaeztraining.com/events/cardio/var/ri-12.
 l-L1
URL:https://lorenapaeztraining.com/events/cardio/var/ri-12.l-L1
END:VEVENT
END:VCALENDAR