BEGIN:VCALENDAR
VERSION:2.0
PRODID:-//eventon.com NONSGML v1.0//EN
CALSCALE:GREGORIAN
METHOD:PUBLISH
BEGIN:VEVENT
UID:69e7ddde0dbe3
DTSTAMP:20260421T202814Z
DTSTART:20210405T120000Z
DTEND:20210405T131500Z
LOCATION:
SUMMARY:Cardio
DESCRIPTION:Cardio\nhttps://lorenapaeztraining.com/events/cardio/var/ri-13.
 l-L1
URL:https://lorenapaeztraining.com/events/cardio/var/ri-13.l-L1
END:VEVENT
END:VCALENDAR