BEGIN:VCALENDAR
VERSION:2.0
PRODID:-//eventon.com NONSGML v1.0//EN
CALSCALE:GREGORIAN
METHOD:PUBLISH
BEGIN:VEVENT
UID:69e80f63bd0ac
DTSTAMP:20260421T235931Z
DTSTART:20210412T120000Z
DTEND:20210412T131500Z
LOCATION:
SUMMARY:Cardio
DESCRIPTION:Cardio\nhttps://lorenapaeztraining.com/events/cardio/var/ri-15.
 l-L1
URL:https://lorenapaeztraining.com/events/cardio/var/ri-15.l-L1
END:VEVENT
END:VCALENDAR