BEGIN:VCALENDAR
VERSION:2.0
PRODID:-//eventon.com NONSGML v1.0//EN
CALSCALE:GREGORIAN
METHOD:PUBLISH
BEGIN:VEVENT
UID:69e82777c0b7b
DTSTAMP:20260422T014215Z
DTSTART:20210413T120000Z
DTEND:20210413T131500Z
LOCATION:
SUMMARY:Cardio
DESCRIPTION:Cardio\nhttps://lorenapaeztraining.com/events/cardio/var/ri-16.
 l-L1
URL:https://lorenapaeztraining.com/events/cardio/var/ri-16.l-L1
END:VEVENT
END:VCALENDAR