BEGIN:VCALENDAR
VERSION:2.0
PRODID:-//eventon.com NONSGML v1.0//EN
CALSCALE:GREGORIAN
METHOD:PUBLISH
BEGIN:VEVENT
UID:69e843cfa0f3f
DTSTAMP:20260422T034311Z
DTSTART:20210419T120000Z
DTEND:20210419T131500Z
LOCATION:
SUMMARY:Cardio
DESCRIPTION:Cardio\nhttps://lorenapaeztraining.com/events/cardio/var/ri-17.
 l-L1
URL:https://lorenapaeztraining.com/events/cardio/var/ri-17.l-L1
END:VEVENT
END:VCALENDAR