BEGIN:VCALENDAR
VERSION:2.0
PRODID:-//eventon.com NONSGML v1.0//EN
CALSCALE:GREGORIAN
METHOD:PUBLISH
BEGIN:VEVENT
UID:69e85a25a3c1b
DTSTAMP:20260422T051829Z
DTSTART:20210420T120000Z
DTEND:20210420T131500Z
LOCATION:
SUMMARY:Cardio
DESCRIPTION:Cardio\nhttps://lorenapaeztraining.com/events/cardio/var/ri-18.
 l-L1
URL:https://lorenapaeztraining.com/events/cardio/var/ri-18.l-L1
END:VEVENT
END:VCALENDAR