BEGIN:VCALENDAR
VERSION:2.0
PRODID:-//eventon.com NONSGML v1.0//EN
CALSCALE:GREGORIAN
METHOD:PUBLISH
BEGIN:VEVENT
UID:69e8787e2ec14
DTSTAMP:20260422T072758Z
DTSTART:20210426T120000Z
DTEND:20210426T131500Z
LOCATION:
SUMMARY:Cardio
DESCRIPTION:Cardio\nhttps://lorenapaeztraining.com/events/cardio/var/ri-19.
 l-L1
URL:https://lorenapaeztraining.com/events/cardio/var/ri-19.l-L1
END:VEVENT
END:VCALENDAR