BEGIN:VCALENDAR
VERSION:2.0
PRODID:-//eventon.com NONSGML v1.0//EN
CALSCALE:GREGORIAN
METHOD:PUBLISH
BEGIN:VEVENT
UID:69e7511d5c1c9
DTSTAMP:20260421T102741Z
DTSTART:20210315T120000Z
DTEND:20210315T131500Z
LOCATION:
SUMMARY:Cardio
DESCRIPTION:Cardio\nhttps://lorenapaeztraining.com/events/cardio/var/ri-7.l
 -L1
URL:https://lorenapaeztraining.com/events/cardio/var/ri-7.l-L1
END:VEVENT
END:VCALENDAR