BEGIN:VCALENDAR
VERSION:2.0
PRODID:-//eventon.com NONSGML v1.0//EN
CALSCALE:GREGORIAN
METHOD:PUBLISH
BEGIN:VEVENT
UID:69e768358d54a
DTSTAMP:20260421T120613Z
DTSTART:20210316T120000Z
DTEND:20210316T131500Z
LOCATION:
SUMMARY:Cardio
DESCRIPTION:Cardio\nhttps://lorenapaeztraining.com/events/cardio/var/ri-8.l
 -L1
URL:https://lorenapaeztraining.com/events/cardio/var/ri-8.l-L1
END:VEVENT
END:VCALENDAR