BEGIN:VCALENDAR
VERSION:2.0
PRODID:-//eventon.com NONSGML v1.0//EN
CALSCALE:GREGORIAN
METHOD:PUBLISH
BEGIN:VEVENT
UID:69e780ac1ef24
DTSTAMP:20260421T135036Z
DTSTART:20210322T120000Z
DTEND:20210322T131500Z
LOCATION:
SUMMARY:Cardio
DESCRIPTION:Cardio\nhttps://lorenapaeztraining.com/events/cardio/var/ri-9.l
 -L1
URL:https://lorenapaeztraining.com/events/cardio/var/ri-9.l-L1
END:VEVENT
END:VCALENDAR