BEGIN:VCALENDAR
VERSION:2.0
PRODID:-//eventon.com NONSGML v1.0//EN
CALSCALE:GREGORIAN
METHOD:PUBLISH
BEGIN:VEVENT
UID:69e7396ae4a39
DTSTAMP:20260421T084634Z
DTSTART:20210224T120000Z
DTEND:20210224T133000Z
LOCATION:
SUMMARY:Circuitos Kroop
DESCRIPTION:Circuitos Kroop\nhttps://lorenapaeztraining.com/events/circuito
 s-kroop/var/ri-1.l-L1
URL:https://lorenapaeztraining.com/events/circuitos-kroop/var/ri-1.l-L1
END:VEVENT
END:VCALENDAR