BEGIN:VCALENDAR
VERSION:2.0
PRODID:-//eventon.com NONSGML v1.0//EN
CALSCALE:GREGORIAN
METHOD:PUBLISH
BEGIN:VEVENT
UID:69e80765d5dec
DTSTAMP:20260421T232525Z
DTSTART:20210428T120000Z
DTEND:20210428T133000Z
LOCATION:
SUMMARY:Circuitos Kroop
DESCRIPTION:Circuitos Kroop\nhttps://lorenapaeztraining.com/events/circuito
 s-kroop/var/ri-10.l-L1
URL:https://lorenapaeztraining.com/events/circuitos-kroop/var/ri-10.l-L1
END:VEVENT
END:VCALENDAR