BEGIN:VCALENDAR
VERSION:2.0
PRODID:-//eventon.com NONSGML v1.0//EN
CALSCALE:GREGORIAN
METHOD:PUBLISH
BEGIN:VEVENT
UID:69e85bc8b3fd3
DTSTAMP:20260422T052528Z
DTSTART:20210519T120000Z
DTEND:20210519T133000Z
LOCATION:
SUMMARY:Circuitos Kroop
DESCRIPTION:Circuitos Kroop\nhttps://lorenapaeztraining.com/events/circuito
 s-kroop/var/ri-13.l-L1
URL:https://lorenapaeztraining.com/events/circuitos-kroop/var/ri-13.l-L1
END:VEVENT
END:VCALENDAR