BEGIN:VCALENDAR
VERSION:2.0
PRODID:-//eventon.com NONSGML v1.0//EN
CALSCALE:GREGORIAN
METHOD:PUBLISH
BEGIN:VEVENT
UID:69e77a5ce27e0
DTSTAMP:20260421T132340Z
DTSTART:20210317T120000Z
DTEND:20210317T133000Z
LOCATION:
SUMMARY:Circuitos Kroop
DESCRIPTION:Circuitos Kroop\nhttps://lorenapaeztraining.com/events/circuito
 s-kroop/var/ri-4.l-L1
URL:https://lorenapaeztraining.com/events/circuitos-kroop/var/ri-4.l-L1
END:VEVENT
END:VCALENDAR