BEGIN:VCALENDAR
VERSION:2.0
PRODID:-//eventon.com NONSGML v1.0//EN
CALSCALE:GREGORIAN
METHOD:PUBLISH
BEGIN:VEVENT
UID:69e7955021794
DTSTAMP:20260421T151840Z
DTSTART:20210324T120000Z
DTEND:20210324T133000Z
LOCATION:
SUMMARY:Circuitos Kroop
DESCRIPTION:Circuitos Kroop\nhttps://lorenapaeztraining.com/events/circuito
 s-kroop/var/ri-5.l-L1
URL:https://lorenapaeztraining.com/events/circuitos-kroop/var/ri-5.l-L1
END:VEVENT
END:VCALENDAR