BEGIN:VCALENDAR
VERSION:2.0
PRODID:-//eventon.com NONSGML v1.0//EN
CALSCALE:GREGORIAN
METHOD:PUBLISH
BEGIN:VEVENT
UID:69e7c2519e151
DTSTAMP:20260421T183041Z
DTSTART:20210407T120000Z
DTEND:20210407T133000Z
LOCATION:
SUMMARY:Circuitos Kroop
DESCRIPTION:Circuitos Kroop\nhttps://lorenapaeztraining.com/events/circuito
 s-kroop/var/ri-7.l-L1
URL:https://lorenapaeztraining.com/events/circuitos-kroop/var/ri-7.l-L1
END:VEVENT
END:VCALENDAR