BEGIN:VCALENDAR
VERSION:2.0
PRODID:-//eventon.com NONSGML v1.0//EN
CALSCALE:GREGORIAN
METHOD:PUBLISH
BEGIN:VEVENT
UID:69e82f9fca51a
DTSTAMP:20260422T021703Z
DTSTART:20210414T140000Z
DTEND:20210414T153000Z
LOCATION:
SUMMARY:Años Dorados
DESCRIPTION:Años Dorados\nhttps://lorenapaeztraining.com/events/anos-dorad
 os/var/ri-16.l-L1
URL:https://lorenapaeztraining.com/events/anos-dorados/var/ri-16.l-L1
END:VEVENT
END:VCALENDAR