BEGIN:VCALENDAR
VERSION:2.0
PRODID:-//eventon.com NONSGML v1.0//EN
CALSCALE:GREGORIAN
METHOD:PUBLISH
BEGIN:VEVENT
UID:69e88359dbd51
DTSTAMP:20260422T081417Z
DTSTART:20210423T140000Z
DTEND:20210423T153000Z
LOCATION:
SUMMARY:Años Dorados
DESCRIPTION:Años Dorados\nhttps://lorenapaeztraining.com/events/anos-dorad
 os/var/ri-19.l-L1
URL:https://lorenapaeztraining.com/events/anos-dorados/var/ri-19.l-L1
END:VEVENT
END:VCALENDAR