BEGIN:VCALENDAR
VERSION:2.0
PRODID:-//eventon.com NONSGML v1.0//EN
CALSCALE:GREGORIAN
METHOD:PUBLISH
BEGIN:VEVENT
UID:69e7819864ed0
DTSTAMP:20260421T135432Z
DTSTART:20210319T140000Z
DTEND:20210319T153000Z
LOCATION:
SUMMARY:Años Dorados
DESCRIPTION:Años Dorados\nhttps://lorenapaeztraining.com/events/anos-dorad
 os/var/ri-9.l-L1
URL:https://lorenapaeztraining.com/events/anos-dorados/var/ri-9.l-L1
END:VEVENT
END:VCALENDAR