BEGIN:VCALENDAR
VERSION:2.0
PRODID:-//eventon.com NONSGML v1.0//EN
CALSCALE:GREGORIAN
METHOD:PUBLISH
BEGIN:VEVENT
UID:69e7303914d9d
DTSTAMP:20260421T080721Z
DTSTART:20210426T233000Z
DTEND:20210427T003000Z
LOCATION:
SUMMARY:Entrenamiento Funcional
DESCRIPTION:Entrenamiento Funcional\nhttps://lorenapaeztraining.com/events/
 entrenamiento-funcional-2/var/ri-19.l-L1
URL:https://lorenapaeztraining.com/events/entrenamiento-funcional-2/var/ri-19.l-L1
END:VEVENT
END:VCALENDAR