BEGIN:VCALENDAR
VERSION:2.0
PRODID:-//eventon.com NONSGML v1.0//EN
CALSCALE:GREGORIAN
METHOD:PUBLISH
BEGIN:VEVENT
UID:69e7de56b80f0
DTSTAMP:20260421T203014Z
DTSTART:20210520T233000Z
DTEND:20210521T003000Z
LOCATION:
SUMMARY:Entrenamiento Funcional
DESCRIPTION:Entrenamiento Funcional\nhttps://lorenapaeztraining.com/events/
 entrenamiento-funcional-2/var/ri-26.l-L1
URL:https://lorenapaeztraining.com/events/entrenamiento-funcional-2/var/ri-26.l-L1
END:VEVENT
END:VCALENDAR