BEGIN:VCALENDAR
VERSION:2.0
PRODID:-//eventon.com NONSGML v1.0//EN
CALSCALE:GREGORIAN
METHOD:PUBLISH
BEGIN:VEVENT
UID:69e7f99078a71
DTSTAMP:20260421T222624Z
DTSTART:20210524T233000Z
DTEND:20210525T003000Z
LOCATION:
SUMMARY:Entrenamiento Funcional
DESCRIPTION:Entrenamiento Funcional\nhttps://lorenapaeztraining.com/events/
 entrenamiento-funcional-2/var/ri-27.l-L1
URL:https://lorenapaeztraining.com/events/entrenamiento-funcional-2/var/ri-27.l-L1
END:VEVENT
END:VCALENDAR