BEGIN:VCALENDAR
VERSION:2.0
PRODID:-//eventon.com NONSGML v1.0//EN
CALSCALE:GREGORIAN
METHOD:PUBLISH
BEGIN:VEVENT
UID:69e81323632bb
DTSTAMP:20260422T001531Z
DTSTART:20210527T233000Z
DTEND:20210528T003000Z
LOCATION:
SUMMARY:Entrenamiento Funcional
DESCRIPTION:Entrenamiento Funcional\nhttps://lorenapaeztraining.com/events/
 entrenamiento-funcional-2/var/ri-28.l-L1
URL:https://lorenapaeztraining.com/events/entrenamiento-funcional-2/var/ri-28.l-L1
END:VEVENT
END:VCALENDAR