BEGIN:VCALENDAR
VERSION:2.0
PRODID:-//eventon.com NONSGML v1.0//EN
CALSCALE:GREGORIAN
METHOD:PUBLISH
BEGIN:VEVENT
UID:69e82d1912f53
DTSTAMP:20260422T020617Z
DTSTART:20210531T233000Z
DTEND:20210601T003000Z
LOCATION:
SUMMARY:Entrenamiento Funcional
DESCRIPTION:Entrenamiento Funcional\nhttps://lorenapaeztraining.com/events/
 entrenamiento-funcional-2/var/ri-29.l-L1
URL:https://lorenapaeztraining.com/events/entrenamiento-funcional-2/var/ri-29.l-L1
END:VEVENT
END:VCALENDAR