BEGIN:VCALENDAR
VERSION:2.0
PRODID:-//eventon.com NONSGML v1.0//EN
CALSCALE:GREGORIAN
METHOD:PUBLISH
BEGIN:VEVENT
UID:69e8465839101
DTSTAMP:20260422T035400Z
DTSTART:20210603T233000Z
DTEND:20210604T003000Z
LOCATION:
SUMMARY:Entrenamiento Funcional
DESCRIPTION:Entrenamiento Funcional\nhttps://lorenapaeztraining.com/events/
 entrenamiento-funcional-2/var/ri-30.l-L1
URL:https://lorenapaeztraining.com/events/entrenamiento-funcional-2/var/ri-30.l-L1
END:VEVENT
END:VCALENDAR