BEGIN:VCALENDAR
VERSION:2.0
PRODID:-//eventon.com NONSGML v1.0//EN
CALSCALE:GREGORIAN
METHOD:PUBLISH
BEGIN:VEVENT
UID:69e6117e9ef1f
DTSTAMP:20260420T114358Z
DTSTART:20210318T233000Z
DTEND:20210319T003000Z
LOCATION:
SUMMARY:Entrenamiento Funcional
DESCRIPTION:Entrenamiento Funcional\nhttps://lorenapaeztraining.com/events/
 entrenamiento-funcional-2/var/ri-8.l-L1
URL:https://lorenapaeztraining.com/events/entrenamiento-funcional-2/var/ri-8.l-L1
END:VEVENT
END:VCALENDAR