BEGIN:VCALENDAR
VERSION:2.0
PRODID:-//eventon.com NONSGML v1.0//EN
CALSCALE:GREGORIAN
METHOD:PUBLISH
BEGIN:VEVENT
UID:69ea0b563adfc
DTSTAMP:20260423T120646Z
DTSTART:20210430T003000Z
DTEND:20210430T013000Z
LOCATION:
SUMMARY:Cardio
DESCRIPTION:Cardio\nhttps://lorenapaeztraining.com/events/cardio-2/var/ri-1
 0.l-L1
URL:https://lorenapaeztraining.com/events/cardio-2/var/ri-10.l-L1
END:VEVENT
END:VCALENDAR