BEGIN:VCALENDAR
VERSION:2.0
PRODID:-//eventon.com NONSGML v1.0//EN
CALSCALE:GREGORIAN
METHOD:PUBLISH
BEGIN:VEVENT
UID:69ea2613e3a5b
DTSTAMP:20260423T140051Z
DTSTART:20210507T003000Z
DTEND:20210507T013000Z
LOCATION:
SUMMARY:Cardio
DESCRIPTION:Cardio\nhttps://lorenapaeztraining.com/events/cardio-2/var/ri-1
 1.l-L1
URL:https://lorenapaeztraining.com/events/cardio-2/var/ri-11.l-L1
END:VEVENT
END:VCALENDAR