BEGIN:VCALENDAR
VERSION:2.0
PRODID:-//eventon.com NONSGML v1.0//EN
CALSCALE:GREGORIAN
METHOD:PUBLISH
BEGIN:VEVENT
UID:69ea6ef5d3e21
DTSTAMP:20260423T191149Z
DTSTART:20210528T003000Z
DTEND:20210528T013000Z
LOCATION:
SUMMARY:Cardio
DESCRIPTION:Cardio\nhttps://lorenapaeztraining.com/events/cardio-2/var/ri-1
 4.l-L1
URL:https://lorenapaeztraining.com/events/cardio-2/var/ri-14.l-L1
END:VEVENT
END:VCALENDAR